BEGIN:VCALENDAR
VERSION:2.0
PRODID:-//eventon.com NONSGML v1.0//EN
BEGIN:VEVENT
UID:69e5df08466b0
DTSTAMP:20260420T160840
DTSTART:20200210T010000Z
DTEND:20200212T090000Z
LOCATION:Penang 
SUMMARY:Total Compensation Managaement (SBL Khas)
DESCRIPTION: Total Compensation Managaement (SBL Khas)
END:VEVENT
END:VCALENDAR