BEGIN:VCALENDAR
VERSION:2.0
PRODID:-//eventon.com NONSGML v1.0//EN
BEGIN:VEVENT
UID:69e4cadbcdad6
DTSTAMP:20260419T203019
DTSTART:20200810T010000Z
DTEND:20200812T090000Z
LOCATION:Penang 
SUMMARY:Total Compensation Management (SBL KHAS)
DESCRIPTION: Total Compensation Management (SBL KHAS)
END:VEVENT
END:VCALENDAR