BEGIN:VCALENDAR
VERSION:2.0
PRODID:-//eventon.com NONSGML v1.0//EN
BEGIN:VEVENT
UID:69e5e1d7d59eb
DTSTAMP:20260420T162039
DTSTART:20200825T010000Z
DTEND:20200825T090000Z
LOCATION:Penang 
SUMMARY:Behavioral Interview (SBL)
DESCRIPTION: Behavioral Interview (SBL)
END:VEVENT
END:VCALENDAR