BEGIN:VCALENDAR
VERSION:2.0
PRODID:-//eventon.com NONSGML v1.0//EN
BEGIN:VEVENT
UID:69e5e13633452
DTSTAMP:20260420T161758
DTSTART:20200907T010000Z
DTEND:20200907T090000Z
LOCATION:Penang 
SUMMARY:MSS\,  VSS and Retrenchment (SBL)
DESCRIPTION: MSS\,  VSS and Retrenchment (SBL)
END:VEVENT
END:VCALENDAR