BEGIN:VCALENDAR
VERSION:2.0
PRODID:-//eventon.com NONSGML v1.0//EN
BEGIN:VEVENT
UID:69e5e1c6b7f20
DTSTAMP:20260420T162022
DTSTART:20201012T010000Z
DTEND:20201014T090000Z
LOCATION:Penang 
SUMMARY:Total Compensation Management (Penang)
DESCRIPTION: Total Compensation Management (Penang)
END:VEVENT
END:VCALENDAR