BEGIN:VCALENDAR
VERSION:2.0
PRODID:-//eventon.com NONSGML v1.0//EN
BEGIN:VEVENT
UID:69e5e14fdb4f7
DTSTAMP:20260420T161823
DTSTART:20201028T010000Z
DTEND:20201028T090000Z
LOCATION:Kuala Terengganu 
SUMMARY:(KT) Managing Common Employment Issues
DESCRIPTION: (KT) Managing Common Employment Issues
END:VEVENT
END:VCALENDAR