BEGIN:VCALENDAR
VERSION:2.0
PRODID:-//eventon.com NONSGML v1.0//EN
BEGIN:VEVENT
UID:69e5e2307e4c4
DTSTAMP:20260420T162208
DTSTART:20201221T010000Z
DTEND:20201221T155000Z
LOCATION:Zoom (Online Learning) 
SUMMARY:(Online) training for virtual trainers
DESCRIPTION: (Online) training for virtual trainers
END:VEVENT
END:VCALENDAR