BEGIN:VCALENDAR
VERSION:2.0
PRODID:-//eventon.com NONSGML v1.0//EN
BEGIN:VEVENT
UID:69e5e4dbc8bfc
DTSTAMP:20260420T163331
DTSTART:20201228T010000Z
DTEND:20201228T090000Z
LOCATION:Dorsett Hotel\,  Putrajaya 
SUMMARY:(Putrajaya) Retrenchment: The Law And Practice
DESCRIPTION: (Putrajaya) Retrenchment: The Law And Practice
END:VEVENT
END:VCALENDAR