BEGIN:VCALENDAR
VERSION:2.0
PRODID:-//eventon.com NONSGML v1.0//EN
BEGIN:VEVENT
UID:69e73617b68e5
DTSTAMP:20260421T163223
DTSTART:20210525T010000Z
DTEND:20210525T093000Z
LOCATION:Zoom (Online Learning) 
SUMMARY:Managing Millennials @ Workplace
DESCRIPTION: Managing Millennials @ Workplace
END:VEVENT
END:VCALENDAR