BEGIN:VCALENDAR
VERSION:2.0
PRODID:-//eventon.com NONSGML v1.0//EN
BEGIN:VEVENT
UID:69e5e392a0502
DTSTAMP:20260420T162802
DTSTART:20210621T010000Z
DTEND:20210621T090000Z
LOCATION:Zoom (Online Learning) 
SUMMARY:Easy TNA
DESCRIPTION: Easy TNA
END:VEVENT
END:VCALENDAR